BEGIN:VCALENDAR
VERSION:2.0
PRODID:-//Institut des Afriques //NONSGML Events //EN
CALSCALE:GREGORIAN
X-WR-CALNAME:Institut des Afriques
BEGIN:VEVENT
CREATED:2023-02-22
UID:7547
DTEND;VALUE=DATE:20230530T200000
DTSTART;VALUE=DATE:20230530T180000
DTSTAMP:2026-04-22
LOCATION:9 Avenue Thiers 33100 Bordeaux Nouvelle-Aquitaine France 
DESCRIPTION:Rencontre littéraire avec Fabienne Kanor autour de son ouvrage "La poétique de la cale", le 30 mai à la librairie le Passeur à Bordeaux.
SUMMARY:Rencontre littéraire : “La poétique de la cale” de Fabienne Kanor
ORGANIZER:Musée d'Aquitaine\, Librairie le Passeur et Institut des Afriques
URL;VALUE=URI:https://institutdesafriques.org/agenda/poetique-de-la-cale-rencontre/
TRANSP:OPAQUE
BEGIN:VALARM
ACTION:DISPLAY
TRIGGER;VALUE=DATE-TIME:2026-04-23
DESCRIPTION:Reminder for Rencontre littéraire : &#8220\;La poétique de la cale&#8221\; de Fabienne Kanor
END:VALARM
END:VEVENT
END:VCALENDAR
