BEGIN:VCALENDAR
VERSION:2.0
PRODID:-//Institut des Afriques //NONSGML Events //EN
CALSCALE:GREGORIAN
X-WR-CALNAME:Institut des Afriques
BEGIN:VEVENT
CREATED:2024-03-20
UID:10066
DTEND;VALUE=DATE:20240410T170000
DTSTART;VALUE=DATE:20240410T150000
DTSTAMP:2026-04-21
LOCATION:10-12 Place des Capucins 33800 Bordeaux Nouvelle-Aquitaine France 
DESCRIPTION:Des lectures de contes tirés de l'ouvrage "Contes du Sénégal" d'El Hadji Leeboon et Sophie Le Hire pour enfants à partir de 3 ans.
SUMMARY:L’heure des histoires en wolof
ORGANIZER:
URL;VALUE=URI:https://institutdesafriques.org/agenda/histoires-wolof/
TRANSP:OPAQUE
BEGIN:VALARM
ACTION:DISPLAY
TRIGGER;VALUE=DATE-TIME:2026-04-21
DESCRIPTION:Reminder for L&#8217\;heure des histoires en wolof
END:VALARM
END:VEVENT
END:VCALENDAR
